BEGIN:VCALENDAR
VERSION:2.0
PRODID:-//ChamberMaster//Event Calendar 2.0//EN
METHOD:PUBLISH
X-PUBLISHED-TTL:P3D
REFRESH-INTERVAL:P3D
CALSCALE:GREGORIAN
BEGIN:VEVENT
DTSTART:20190911T010000Z
DTEND:20190911T034500Z
X-MICROSOFT-CDO-ALLDAYEVENT:FALSE
SUMMARY:Rainwater Harvesting
DESCRIPTION:A Certified Water Harvesting Practitioner will teach you how to design an earth-friendly yard to collect or utilize rainwater from roofs\, driveways\, patios and sidewalks that can reduce your water consumption.
X-ALT-DESC;FMTTYPE=text/html:A Certified Water Harvesting Practitioner will teach you how to design an earth-friendly yard to collect or utilize rainwater from roofs\, driveways\, patios and sidewalks that can reduce your water consumption.
LOCATION:Chandler TechShop - ASU Chandler Innovation Center 249 E. Chicago St. Chandler\, AZ 85225
UID:e.1561.36868
SEQUENCE:3
DTSTAMP:20260426T022043Z
URL:http://chandlerchamber.chambermaster.com/events/details/rainwater-harvesting-36868
END:VEVENT

END:VCALENDAR
