BEGIN:VCALENDAR
VERSION:2.0
PRODID:-//ChamberMaster//Event Calendar 2.0//EN
METHOD:PUBLISH
X-PUBLISHED-TTL:P3D
REFRESH-INTERVAL:P3D
CALSCALE:GREGORIAN
BEGIN:VEVENT
DTSTART:20190926T010000Z
DTEND:20190926T030000Z
X-MICROSOFT-CDO-ALLDAYEVENT:FALSE
SUMMARY:BIG DATA IN BUSINESS
DESCRIPTION:Registration: John Lee\, AZ CCC President 480-882-8015\n\nEvent Moderator: Barry Wong\, AZ CCC Advisor\n\nSeminar Speaker: Amoy Yang\, Data Scientist\, Infosys\n\n6:00pm : Networking\n\n6:30pm-8:00pm : Seminar
X-ALT-DESC;FMTTYPE=text/html:Registration: John Lee\, AZ CCC President 480-882-8015<br />\nEvent Moderator: Barry Wong\, AZ CCC Advisor<br />\nSeminar Speaker: Amoy Yang\, Data Scientist\, Infosys<br />\n6:00pm : Networking<br />\n6:30pm-8:00pm : Seminar
LOCATION:University of Phoenix 4035 Riverpoint Pkwy\, Phoenix\, AZ
UID:e.1561.36898
SEQUENCE:3
DTSTAMP:20260425T102641Z
URL:http://chandlerchamber.chambermaster.com/events/details/big-data-in-business-36898
END:VEVENT

END:VCALENDAR
